BEGIN:VCALENDAR
VERSION:2.0
PRODID:-//Shermco Industries - ECPv6.15.11//NONSGML v1.0//EN
CALSCALE:GREGORIAN
METHOD:PUBLISH
X-WR-CALNAME:Shermco Industries
X-ORIGINAL-URL:https://shermco.com
X-WR-CALDESC:Events for Shermco Industries
REFRESH-INTERVAL;VALUE=DURATION:PT1H
X-Robots-Tag:noindex
X-PUBLISHED-TTL:PT1H
BEGIN:VTIMEZONE
TZID:America/New_York
BEGIN:DAYLIGHT
TZOFFSETFROM:-0500
TZOFFSETTO:-0400
TZNAME:EDT
DTSTART:20250309T070000
END:DAYLIGHT
BEGIN:STANDARD
TZOFFSETFROM:-0400
TZOFFSETTO:-0500
TZNAME:EST
DTSTART:20251102T060000
END:STANDARD
BEGIN:DAYLIGHT
TZOFFSETFROM:-0500
TZOFFSETTO:-0400
TZNAME:EDT
DTSTART:20260308T070000
END:DAYLIGHT
BEGIN:STANDARD
TZOFFSETFROM:-0400
TZOFFSETTO:-0500
TZNAME:EST
DTSTART:20261101T060000
END:STANDARD
BEGIN:DAYLIGHT
TZOFFSETFROM:-0500
TZOFFSETTO:-0400
TZNAME:EDT
DTSTART:20270314T070000
END:DAYLIGHT
BEGIN:STANDARD
TZOFFSETFROM:-0400
TZOFFSETTO:-0500
TZNAME:EST
DTSTART:20271107T060000
END:STANDARD
END:VTIMEZONE
BEGIN:VEVENT
DTSTART;TZID=America/New_York:20260421T080000
DTEND;TZID=America/New_York:20260422T160000
DTSTAMP:20260421T055151
CREATED:20260310T184124Z
LAST-MODIFIED:20260311T192025Z
UID:3996-1776758400-1776873600@shermco.com
SUMMARY:National Electrical Code (Virtual)
DESCRIPTION:Course Description: This course is designed to give new or experienced users of the National Electrical Code (NFPA70) practical experience in applying the rules in commercial and industrial applications. Through practical exercises\, classroom instruction\, and discussions\, students will learn how to size conductors\, motors\, overcurrent protection and raceways for safe installations. Students will utilize chapters 1 through 4 of the Code book to become proficient in finding applicable sections for most applications. Chapter 9 tables are also covered so students can properly utilize them in everyday work situations. The practical exercises are designed to help students become familiar with the structure of the Code and how to quickly find the articles needed for common applications. \nPrerequisites: An understanding of basic electrical theory and practical field knowledge of electrical installations. This is not a basic or beginner’s NEC course. \nCourse Learning Objectives: \n\nPurpose\, scope\, and definitions of the NEC\nRequirements for installations wiring and protection\nLoad calculations and overcurrent protection\nWiring methods\, conductors\, and Conductors in parallel\nUnderground installations\nRaceway and box fill calculations\nConductors in parallel\nConductor ampacity correction and adjustment\nBonding and grounding Article 250\nSwitchboards\, switchgear\, and panelboards\nNeutral conductor terminations\nMotors\, motor circuits\, and controllers.
URL:https://shermco.com/training-catalog/national-electrical-code-virtual/
CATEGORIES:Canada Virtual,United States Virtual
END:VEVENT
END:VCALENDAR