BEGIN:VCALENDAR
VERSION:2.0
PRODID:-//Shermco Industries - ECPv6.15.11//NONSGML v1.0//EN
CALSCALE:GREGORIAN
METHOD:PUBLISH
X-ORIGINAL-URL:https://shermco.com
X-WR-CALDESC:Events for Shermco Industries
REFRESH-INTERVAL;VALUE=DURATION:PT1H
X-Robots-Tag:noindex
X-PUBLISHED-TTL:PT1H
BEGIN:VTIMEZONE
TZID:America/New_York
BEGIN:DAYLIGHT
TZOFFSETFROM:-0500
TZOFFSETTO:-0400
TZNAME:EDT
DTSTART:20240310T070000
END:DAYLIGHT
BEGIN:STANDARD
TZOFFSETFROM:-0400
TZOFFSETTO:-0500
TZNAME:EST
DTSTART:20241103T060000
END:STANDARD
BEGIN:DAYLIGHT
TZOFFSETFROM:-0500
TZOFFSETTO:-0400
TZNAME:EDT
DTSTART:20250309T070000
END:DAYLIGHT
BEGIN:STANDARD
TZOFFSETFROM:-0400
TZOFFSETTO:-0500
TZNAME:EST
DTSTART:20251102T060000
END:STANDARD
BEGIN:DAYLIGHT
TZOFFSETFROM:-0500
TZOFFSETTO:-0400
TZNAME:EDT
DTSTART:20260308T070000
END:DAYLIGHT
BEGIN:STANDARD
TZOFFSETFROM:-0400
TZOFFSETTO:-0500
TZNAME:EST
DTSTART:20261101T060000
END:STANDARD
END:VTIMEZONE
BEGIN:VEVENT
DTSTART;TZID=America/New_York:20251014T080000
DTEND;TZID=America/New_York:20251017T160000
DTSTAMP:20260422T182433
CREATED:20250714T161831Z
LAST-MODIFIED:20251001T143542Z
UID:2720-1760428800-1760716800@shermco.com
SUMMARY:Industrial Plant Electrical Maintenance
DESCRIPTION:TUITION: $1420*\nDURATION: 4 Day (8am – 4pm)\nCEU: 3.2 Units\nLocation: Irving TX\nPREREQUISITES: Students should have basic electrical training. Some field experience is recommended but not mandatory. \nCOURSE DESCRIPTION: \nThis course covers what maintenance personnel and managers should know about electrical maintenance and how it affects plant reliability. The maintenance and testing required for common plant devices\, including transformers\, protective relays\, circuit breakers\, cubicle maintenance\, motors and motor controls is covered in detail. Based on the NFPA 70E or B and ANSI/NETA Maintenance Testing Specifications\, this intensive training program provides the latest information on maintaining and testing electrical power system equipment\, including what to do\, when to do it and interpreting test results. \n*Tuition price is for open enrollments\, does not include costs for on-site bookings. \nCOURSE LEARNING OBJECTIVES: \n\nLow- and medium-voltage circuit breakers.\nMotor maintenance\nSwitches and disconnects.\nTransformer maintenance and testing.\nHow to interpret results and trend analysis.\nHow to improve plant reliability through common-sense approaches to operation and maintenance.\nHow to lower operation and maintenance cost.\nHow maintenance planning can reduce unscheduled downtime.\nHands-on (~40%) training program augmented with round-table discussions.\n\nCONTACT US TO BOOK YOUR NEXT SESSION! \nGet personalized support and guidance for your team at your plant or ours! Contact TrainingServices@Shermco.com and we’ll work with you to find a plan that suits your needs. \n(Pricing subject to change based on customization\, first-come\, first-serve basis\, minimum charges apply)
URL:https://shermco.com/training-catalog/industrial-plant-electrical-maintenance-2/
CATEGORIES:In-person United States
END:VEVENT
END:VCALENDAR