BEGIN:VCALENDAR
VERSION:2.0
PRODID:-//Shermco Industries - ECPv6.15.11//NONSGML v1.0//EN
CALSCALE:GREGORIAN
METHOD:PUBLISH
X-WR-CALNAME:Shermco Industries
X-ORIGINAL-URL:https://shermco.com
X-WR-CALDESC:Events for Shermco Industries
REFRESH-INTERVAL;VALUE=DURATION:PT1H
X-Robots-Tag:noindex
X-PUBLISHED-TTL:PT1H
BEGIN:VTIMEZONE
TZID:America/New_York
BEGIN:DAYLIGHT
TZOFFSETFROM:-0500
TZOFFSETTO:-0400
TZNAME:EDT
DTSTART:20240310T070000
END:DAYLIGHT
BEGIN:STANDARD
TZOFFSETFROM:-0400
TZOFFSETTO:-0500
TZNAME:EST
DTSTART:20241103T060000
END:STANDARD
BEGIN:DAYLIGHT
TZOFFSETFROM:-0500
TZOFFSETTO:-0400
TZNAME:EDT
DTSTART:20250309T070000
END:DAYLIGHT
BEGIN:STANDARD
TZOFFSETFROM:-0400
TZOFFSETTO:-0500
TZNAME:EST
DTSTART:20251102T060000
END:STANDARD
BEGIN:DAYLIGHT
TZOFFSETFROM:-0500
TZOFFSETTO:-0400
TZNAME:EDT
DTSTART:20260308T070000
END:DAYLIGHT
BEGIN:STANDARD
TZOFFSETFROM:-0400
TZOFFSETTO:-0500
TZNAME:EST
DTSTART:20261101T060000
END:STANDARD
END:VTIMEZONE
BEGIN:VEVENT
DTSTART;TZID=America/New_York:20251010T080000
DTEND;TZID=America/New_York:20251010T160000
DTSTAMP:20260422T182241
CREATED:20251001T145735Z
LAST-MODIFIED:20251001T152829Z
UID:3441-1760083200-1760112000@shermco.com
SUMMARY:Electrical Safety for Managers & Supervisors (Virtual)
DESCRIPTION:TUITION: $550*\nDURATION: 1 Day (8am – 4pm)\nCEU: 0.8 Units\nPREREQUISITES: None \nCOURSE DESCRIPTION: \nAs is often the case\, supervisors\, managers\, and engineers who are responsible for plant maintenance are not actually the individuals performing hands-on maintenance operations. However\, it is critical that they understand workplace safety policies and regulations so they can plan for the direction and training requirements of maintenance staff and assure that proper PPE\, LOTO\, and other safety procedures are well understood and followed. \n*Tuition price is for open enrollments\, does not include costs for on-site bookings. \nCOURSE LEARNING OBJECTIVES: \n\nHow electrical hazards in the can affect your personnel\, your company and those responsible for electrical workers.\nRecognize electrical safety hazards and plan a course of action to address each one.\nOSHA/CSA regulations and NFPA 70E requirements for taking specific measures to prevent electrical hazards from causing injury or death.\nElectrical hazard awareness and recognition.\nManaging liability created by electrical hazards.\nDesigning and implementing an Electrical Safety Program (ESP) including policies\, safe work procedures and permits\, hazard analysis\, risk assessments and reduction\, training\, PPE and other written program documents.\nPerforming an electrical hazard/risk analysis.\nUsing the NFPA 70E to interpret hazard/risk category classification (HRC) of a given task and assure adequate PPE.\nHow to incorporate changes implemented by the NFPA 70E update.\nIdentify the steps needed to protect employees who work on or near energized parts.\n\nCONTACT US TO BOOK YOUR NEXT SESSION! \nGet personalized support and guidance for your team at your plant or ours! Contact TrainingServices@Shermco.com and we’ll work with you to find a plan that suits your needs. \n(Pricing subject to change based on customization\, first-come\, first-serve basis\, minimum charges apply)
URL:https://shermco.com/training-catalog/electrical-safety-for-managers-supervisors-3/
CATEGORIES:In-person United States
END:VEVENT
END:VCALENDAR