BEGIN:VCALENDAR
VERSION:2.0
PRODID:-//Shermco Industries - ECPv6.15.11//NONSGML v1.0//EN
CALSCALE:GREGORIAN
METHOD:PUBLISH
X-WR-CALNAME:Shermco Industries
X-ORIGINAL-URL:https://shermco.com
X-WR-CALDESC:Events for Shermco Industries
REFRESH-INTERVAL;VALUE=DURATION:PT1H
X-Robots-Tag:noindex
X-PUBLISHED-TTL:PT1H
BEGIN:VTIMEZONE
TZID:America/New_York
BEGIN:DAYLIGHT
TZOFFSETFROM:-0500
TZOFFSETTO:-0400
TZNAME:EDT
DTSTART:20240310T070000
END:DAYLIGHT
BEGIN:STANDARD
TZOFFSETFROM:-0400
TZOFFSETTO:-0500
TZNAME:EST
DTSTART:20241103T060000
END:STANDARD
BEGIN:DAYLIGHT
TZOFFSETFROM:-0500
TZOFFSETTO:-0400
TZNAME:EDT
DTSTART:20250309T070000
END:DAYLIGHT
BEGIN:STANDARD
TZOFFSETFROM:-0400
TZOFFSETTO:-0500
TZNAME:EST
DTSTART:20251102T060000
END:STANDARD
BEGIN:DAYLIGHT
TZOFFSETFROM:-0500
TZOFFSETTO:-0400
TZNAME:EDT
DTSTART:20260308T070000
END:DAYLIGHT
BEGIN:STANDARD
TZOFFSETFROM:-0400
TZOFFSETTO:-0500
TZNAME:EST
DTSTART:20261101T060000
END:STANDARD
END:VTIMEZONE
BEGIN:VEVENT
DTSTART;TZID=America/New_York:20250916T080000
DTEND;TZID=America/New_York:20250917T160000
DTSTAMP:20260422T194918
CREATED:20250714T160959Z
LAST-MODIFIED:20250714T160959Z
UID:2711-1758009600-1758124800@shermco.com
SUMMARY:Electrical Safety for Renewable Energy (Wind) Sites
DESCRIPTION:TUITION: $850*\nDURATION: 2 Days (8 am – 4 pm)\nCEU: 1.6 Units\nPREREQUISITES: Attendees should have basic electrical knowledge. Field experience with generation\, transmission\, and distribution systems operating above 600 volts is desired but not required. \nCOURSE DESCRIPTION:  \nA practical and intensive training program designed to enhance attendees’ safety while working on or near a collector system and substation equipment. Safety training requirements and safe work practices for electrical workers are covered using the NFPA 70E\, NESC\, and Fed OSHA regulations including 29CFR1910.331.335 and selected parts of 29CFR1910.269. PPE covered in this class includes hard hats\, safety glasses\, arc rated vs. FR clothing\, arc rated flash suits\, insulated hand tools\, live line tools\, rubber insulating gloves\, and rubber insulating blankets. Classroom lectures will be supplemented with tests and exercises intended to reinforce best practices for operations and safety. \n*Tuition price is for open enrollments\, does not include costs for on-site bookings. \nCOURSE LEARNING OBJECTIVES: \n\nEquipment overview and electrical safety basics.\nHazards of electricity.\nPPE and inspecting PPE.\nMedium‐voltage detection exercise pad‐mounted transformer isolation.\nExercise substation switching exercise.\nArc flash and shock boundaries.\nSafeguards for personnel protection and job hazard/safety analysis.\nPlacing equipment in an electrically‐safe work condition.\nHazards of de‐energized equipment.\nTesting for the absence of voltages.\n\nCONTACT US TO BOOK YOUR NEXT SESSION! \nGet personalized support and guidance for your team at your plant or ours! Contact TrainingServices@Shermco.com and we’ll work with you to find a plan that suits your needs. \n (Pricing subject to change based on customization\, first-come\, first-serve basis\, minimum charges apply)
URL:https://shermco.com/training-catalog/electrical-safety-for-renewable-energy-wind-sites/
CATEGORIES:In-person United States
END:VEVENT
END:VCALENDAR