BEGIN:VCALENDAR
VERSION:2.0
PRODID:-//Shermco Industries - ECPv6.15.11//NONSGML v1.0//EN
CALSCALE:GREGORIAN
METHOD:PUBLISH
X-WR-CALNAME:Shermco Industries
X-ORIGINAL-URL:https://shermco.com
X-WR-CALDESC:Events for Shermco Industries
REFRESH-INTERVAL;VALUE=DURATION:PT1H
X-Robots-Tag:noindex
X-PUBLISHED-TTL:PT1H
BEGIN:VTIMEZONE
TZID:UTC
BEGIN:STANDARD
TZOFFSETFROM:+0000
TZOFFSETTO:+0000
TZNAME:UTC
DTSTART:20240101T000000
END:STANDARD
END:VTIMEZONE
BEGIN:VEVENT
DTSTART;TZID=UTC:20250819T080000
DTEND;TZID=UTC:20250820T160000
DTSTAMP:20260422T212048
CREATED:20250627T224119Z
LAST-MODIFIED:20250701T181510Z
UID:2539-1755590400-1755705600@shermco.com
SUMMARY:Canada ESQEW (Virtual)
DESCRIPTION:Tuition: $1195*\nDuration: 2 Days (8am – 4pm each day)\nCEU: 1.6 Units\nPrerequisites: It is recommended\, but not mandatory that attendees should have some basic electrical training and field experience. \nCOURSE DESCRIPTION: \nDesigned for all maintenance and testing personnel who work on or near electrical equipment. This seminar meets and exceeds the basic OSHA/CSA-mandated electrical safety training. All of the concepts of electrical safety are carefully explained in both classroom and hands-on sessions. These assure that the skills and knowledge can be demonstrated to meet the OSHA/CSA requirements. The basic class and lab is primarily focused on applications below 600 volts\, but an optional one day lab session is available for understanding and demonstrating the special skills and knowledge required for medium voltage applications. \n*Tuition price is for open enrollments\, does not include costs for on-site bookings. \nCOURSE LEARNING OBJECTIVES: \n\nRecognize\, understand and avoid electrical hazards and risks (shock\, arc flash\, and arc blast)\nHow to develop and implement a JSA/JHA to address hazards and plan the required steps needed to work safely on or near energized conductors and circuit components.\nSafe work practices for work on or near metal clad switchgear\, substations\, motor control centers\, medium-voltage motor starters and facility electrical systems.\nHow to place equipment in an electrically safe work condition and properly utilize lockout/tagout (LOTO) requirements.\nProper selection\, maintenance\, testing\, use\, and storage of PPE. Learn their purposes and limitations.\nHow to inspect insulated tools and understand their limitations of use\nHow to select and apply temporary grounds as well as specific equipment grounding hazards including step and touch potentials.\nHow to use a transformer short circuit current/incident energy calculator and how to estimate incident energy under field work conditions.\nHow to perform absence-of voltage testing to help ensure an electrically safe work condition.\nReview OSHA/CSA Electrical Safety\nRelated Work Practice regulations (29CFR 1910.311-.335 as well as Articles 110\, 12 and 130).\nUnderstand the current utilization of NFPA 70E and the annex tables. Seminar-based program with round-table discussions.\n\nCONTACT US TO BOOK YOUR NEXT SESSION! \nGet personalized support and guidance for your team at your plant or ours! Contact TrainingServices@Shermco.com and we’ll work with you to find a plan that suits your needs. \n(Pricing subject to change based on customization\, first-come\, first-serve basis\, minimum charges apply)
URL:https://shermco.com/training-catalog/canada-esqew-virtual-4/
CATEGORIES:Canada Virtual
END:VEVENT
BEGIN:VEVENT
DTSTART;TZID=UTC:20250819T080000
DTEND;TZID=UTC:20250820T160000
DTSTAMP:20260422T212048
CREATED:20250627T224901Z
LAST-MODIFIED:20250630T135856Z
UID:2557-1755590400-1755705600@shermco.com
SUMMARY:Electrical Safety for Qualified Electrical Workers
DESCRIPTION:Tuition: $850*\nDuration: 2 Days (8am – 4pm each day)\nCEU: 1.6 Units\nPrerequisites: It is recommended\, but not mandatory that attendees should have some basic electrical training and field experience. \nCOURSE DESCRIPTION: \nDesigned for all maintenance and testing personnel who work on or near electrical equipment. This seminar meets and exceeds the basic OSHA/CSA-mandated electrical safety training. All of the concepts of electrical safety are carefully explained in both classroom and hands-on sessions. These assure that the skills and knowledge can be demonstrated to meet the OSHA/CSA requirements. The basic class and lab is primarily focused on applications below 600 volts\, but an optional one day lab session is available for understanding and demonstrating the special skills and knowledge required for medium voltage applications. \n*Tuition price is for open enrollments\, does not include costs for on-site bookings \nCOURSE LEARNING OBJECTIVES: \n\nRecognize\, understand and avoid electrical hazards and risks (shock\, arc flash\, and arc blast)\nHow to develop and implement a JSA/JHA to address hazards and plan the required steps needed to work safely on or near energized conductors and circuit components.\nSafe work practices for work on or near metal clad switchgear\, substations\, motor control centers\, medium-voltage motor starters and facility electrical systems.\nHow to place equipment in an electrically safe work condition and properly utilize lockout/tagout (LOTO) requirements.\nProper selection\, maintenance\, testing\, use\, and storage of PPE. Learn their purposes and limitations.\nHow to inspect insulated tools and understand their limitations of use\nHow to select and apply temporary grounds as well as specific equipment grounding hazards including step and touch potentials.\nHow to use a transformer short circuit current/incident energy calculator and how to estimate incident energy under field work conditions.\nHow to perform absence-of-voltage testing to help ensure an electrically safe work condition.\nReview OSHA/CSA Electrical Safety Related Work Practice regulations (29CFR 1910.311-.335 as well as Articles 110\, 12 and 130.\nUnderstand the current utilization of NFPA 70E and the annex tables. Seminar-based program with round-table discussions.\n\nCONTACT US TO BOOK YOUR NEXT SESSION! \nGet personalized support and guidance for your team at your plant or ours! Contact TrainingServices@Shermco.com and we’ll work with you to find a plan that suits your needs. \n(Pricing subject to change based on customization\, first-come\, first-serve basis\, minimum charges apply)
URL:https://shermco.com/training-catalog/electrical-safety-for-qualified-electrical-workers-16/
CATEGORIES:In-person United States
END:VEVENT
BEGIN:VEVENT
DTSTART;TZID=UTC:20250819T080000
DTEND;TZID=UTC:20250820T160000
DTSTAMP:20260422T212048
CREATED:20250627T225951Z
LAST-MODIFIED:20250630T135812Z
UID:2585-1755590400-1755705600@shermco.com
SUMMARY:Electrical Safety for Qualified Electrical Workers (Virtual)
DESCRIPTION:Tuition: $850*\nDuration: 2 Days (8am – 4pm each day)\nCEU: 1.6 Units\nPrerequisites: It is recommended\, but not mandatory that attendees should have some basic electrical training and field experience. \nCOURSE DESCRIPTION: \nDesigned for all maintenance and testing personnel who work on or near electrical equipment. This seminar meets and exceeds the basic OSHA/CSA-mandated electrical safety training. All of the concepts of electrical safety are carefully explained in both classroom and hands-on sessions. These assure that the skills and knowledge can be demonstrated to meet the OSHA/CSA requirements. The basic class and lab is primarily focused on applications below 600 volts\, but an optional one day lab session is available for understanding and demonstrating the special skills and knowledge required for medium voltage applications. \n*Tuition price is for open enrollments\, does not include costs for on-site bookings \nCOURSE LEARNING OBJECTIVES: \n\nRecognize\, understand and avoid electrical hazards and risks (shock\, arc flash\, and arc blast)\nHow to develop and implement a JSA/JHA to address hazards and plan the required steps needed to work safely on or near energized conductors and circuit components.\nSafe work practices for work on or near metal clad switchgear\, substations\, motor control centers\, medium-voltage motor starters and facility electrical systems.\nHow to place equipment in an electrically safe work condition and properly utilize lockout/tagout (LOTO) requirements.\nProper selection\, maintenance\, testing\, use\, and storage of PPE. Learn their purposes and limitations.\nHow to inspect insulated tools and understand their limitations of use\nHow to select and apply temporary grounds as well as specific equipment grounding hazards including step and touch potentials.\nHow to use a transformer short circuit current/incident energy calculator and how to estimate incident energy under field work conditions.\nHow to perform absence-of-voltage testing to help ensure an electrically safe work condition.\nReview OSHA/CSA Electrical Safety Related Work Practice regulations (29CFR 1910.311-.335 as well as Articles 110\, 12 and 130.\nUnderstand the current utilization of NFPA 70E and the annex tables. Seminar-based program with round-table discussions.\n\nCONTACT US TO BOOK YOUR NEXT SESSION! \nGet personalized support and guidance for your team at your plant or ours! Contact TrainingServices@Shermco.com and we’ll work with you to find a plan that suits your needs. \n(Pricing subject to change based on customization\, first-come\, first-serve basis\, minimum charges apply)
URL:https://shermco.com/training-catalog/electrical-safety-for-qualified-electrical-workers-virtual-4/
CATEGORIES:United States Virtual
END:VEVENT
END:VCALENDAR