BEGIN:VCALENDAR
VERSION:2.0
PRODID:-//Shermco Industries - ECPv6.15.11//NONSGML v1.0//EN
CALSCALE:GREGORIAN
METHOD:PUBLISH
X-WR-CALNAME:Shermco Industries
X-ORIGINAL-URL:https://shermco.com
X-WR-CALDESC:Events for Shermco Industries
REFRESH-INTERVAL;VALUE=DURATION:PT1H
X-Robots-Tag:noindex
X-PUBLISHED-TTL:PT1H
BEGIN:VTIMEZONE
TZID:UTC
BEGIN:STANDARD
TZOFFSETFROM:+0000
TZOFFSETTO:+0000
TZNAME:UTC
DTSTART:20240101T000000
END:STANDARD
END:VTIMEZONE
BEGIN:VEVENT
DTSTART;TZID=UTC:20250811T080000
DTEND;TZID=UTC:20250812T160000
DTSTAMP:20260422T212048
CREATED:20250627T230911Z
LAST-MODIFIED:20250627T233649Z
UID:2592-1754899200-1755014400@shermco.com
SUMMARY:Basic Electrical Fundamentals
DESCRIPTION:TUITION: $995*\nDURATION: 2 Days\nCEU: 1.6 Units\nPREREQUISITES: None \nCOURSE DESCRIPTION: \nWhether you are new to the industry or are taking on additional responsibilities for electrical maintenance\, a solid knowledge of the basics is essential to understanding the operations\, maintenance and safety of any facility or factory site. This is a hands-on practical introduction to those concepts and skills that serves as a prerequisite to further training and career enhancements for both technicians and managers \n*Tuition price is for open enrollments\, does not include costs for on-site bookings \nCOURSE LEARNING OBJECTIVES: \n\nFundamentals of matter\, energy\, and electricity.\nDirect current (DC) fundamentals\, including Ohm’s Law and calculating voltage\, current\, resistance and power in the DC systems.\nBattery theory and operation.\nAlternating current (AC) fundamentals\, including application of Ohm’s and Kirchoff’s Laws to single- and three-phase circuits.\nHow AC is generated.\nInductance\, capacitance\, and reactance.\nHow transformers work.\n\nCONTACT US TO BOOK YOUR NEXT SESSION! \nGet personalized support and guidance for your team at your plant or ours! Contact TrainingServices@Shermco.com and we’ll work with you to find a plan that suits your needs. \n(Pricing subject to change based on customization\, first-come\, first-serve basis\, minimum charges apply
URL:https://shermco.com/training-catalog/basic-electrical-fundamentals/
CATEGORIES:In-person United States
END:VEVENT
END:VCALENDAR