BEGIN:VCALENDAR
VERSION:2.0
PRODID:-//Shermco Industries - ECPv6.15.11//NONSGML v1.0//EN
CALSCALE:GREGORIAN
METHOD:PUBLISH
X-WR-CALNAME:Shermco Industries
X-ORIGINAL-URL:https://shermco.com
X-WR-CALDESC:Events for Shermco Industries
REFRESH-INTERVAL;VALUE=DURATION:PT1H
X-Robots-Tag:noindex
X-PUBLISHED-TTL:PT1H
BEGIN:VTIMEZONE
TZID:UTC
BEGIN:STANDARD
TZOFFSETFROM:+0000
TZOFFSETTO:+0000
TZNAME:UTC
DTSTART:20240101T000000
END:STANDARD
END:VTIMEZONE
BEGIN:VEVENT
DTSTART;TZID=UTC:20250719T080000
DTEND;TZID=UTC:20250719T160000
DTSTAMP:20260422T224054
CREATED:20250627T225033Z
LAST-MODIFIED:20250627T234337Z
UID:2561-1752912000-1752940800@shermco.com
SUMMARY:Electrical Safety for Qualified Electrical Workers Labs
DESCRIPTION:TUITION: $575*\nDURATION: 1 Day (8am – 4pm)\nCEU: 0.8 Units\nPREREQUISITES: Electrical Safety for Qualified Electrical Workers \nCOURSE DESCRIPTION \nTechnicians and supervisors are often hesitant to perform tasks on medium-voltage equipment without some prior training or experience. This one-day lab session pulls all the pieces together for planning and executing specific tasks on medium-voltage energized equipment. A planning session is followed by hands-on practice in Shermco’s training substation under the supervision of our field-experienced instructors. \n*Tuition price is for open enrollments\, does not include costs for on-site bookings. \nCOURSE LEARNING OBJECTIVES: \n\nFocusing on medium-voltage applications.\nHow to assemble all the components of an electrical safety program into a practical job plan.\nHazard identification and risk assessment.\nAbsence of voltage testing of medium-voltage switchgear.\nGrounding of medium-voltage switchgear.\nChanging medium-voltage air-switch fuses.\nInserting and removing (racking) medium-voltage circuit breakers.\nInspection of PPE and arc-rated clothing.
URL:https://shermco.com/training-catalog/electrical-safety-for-qualified-electrical-workers-labs-8/
CATEGORIES:In-person United States
END:VEVENT
END:VCALENDAR