BEGIN:VCALENDAR
VERSION:2.0
PRODID:-//Shermco Industries - ECPv6.15.11//NONSGML v1.0//EN
CALSCALE:GREGORIAN
METHOD:PUBLISH
X-WR-CALNAME:Shermco Industries
X-ORIGINAL-URL:https://shermco.com
X-WR-CALDESC:Events for Shermco Industries
REFRESH-INTERVAL;VALUE=DURATION:PT1H
X-Robots-Tag:noindex
X-PUBLISHED-TTL:PT1H
BEGIN:VTIMEZONE
TZID:UTC
BEGIN:STANDARD
TZOFFSETFROM:+0000
TZOFFSETTO:+0000
TZNAME:UTC
DTSTART:20240101T000000
END:STANDARD
END:VTIMEZONE
BEGIN:VEVENT
DTSTART;TZID=UTC:20250710T080000
DTEND;TZID=UTC:20250710T160000
DTSTAMP:20260422T224054
CREATED:20250627T224954Z
LAST-MODIFIED:20250627T234503Z
UID:2559-1752134400-1752163200@shermco.com
SUMMARY:Electrical Safety for Qualified Electrical Workers Labs
DESCRIPTION:TUITION: $575*\nDURATION: 1 Day (8am – 4pm)\nCEU: 0.8 Units\nPREREQUISITES: Electrical Safety for Qualified Electrical Workers \nCOURSE DESCRIPTION \nTechnicians and supervisors are often hesitant to perform tasks on medium-voltage equipment without some prior training or experience. This one-day lab session pulls all the pieces together for planning and executing specific tasks on medium-voltage energized equipment. A planning session is followed by hands-on practice in Shermco’s training substation under the supervision of our field-experienced instructors. \n*Tuition price is for open enrollments\, does not include costs for on-site bookings. \nCOURSE LEARNING OBJECTIVES: \n\nFocusing on medium-voltage applications.\nHow to assemble all the components of an electrical safety program into a practical job plan.\nHazard identification and risk assessment.\nAbsence of voltage testing of medium-voltage switchgear.\nGrounding of medium-voltage switchgear.\nChanging medium-voltage air-switch fuses.\nInserting and removing (racking) medium-voltage circuit breakers.\nInspection of PPE and arc-rated clothing.
URL:https://shermco.com/training-catalog/electrical-safety-for-qualified-electrical-workers-labs-7/
CATEGORIES:In-person United States
END:VEVENT
BEGIN:VEVENT
DTSTART;TZID=UTC:20250710T080000
DTEND;TZID=UTC:20250710T160000
DTSTAMP:20260422T224054
CREATED:20250627T225106Z
LAST-MODIFIED:20250627T234451Z
UID:2563-1752134400-1752163200@shermco.com
SUMMARY:Electrical Safety for Qualified Electrical Workers Labs
DESCRIPTION:TUITION: $575*\nDURATION: 1 Day (8am – 4pm)\nCEU: 0.8 Units\nPREREQUISITES: Electrical Safety for Qualified Electrical Workers \nCOURSE DESCRIPTION \nTechnicians and supervisors are often hesitant to perform tasks on medium-voltage equipment without some prior training or experience. This one-day lab session pulls all the pieces together for planning and executing specific tasks on medium-voltage energized equipment. A planning session is followed by hands-on practice in Shermco’s training substation under the supervision of our field-experienced instructors. \n*Tuition price is for open enrollments\, does not include costs for on-site bookings. \nCOURSE LEARNING OBJECTIVES: \n\nFocusing on medium-voltage applications.\nHow to assemble all the components of an electrical safety program into a practical job plan.\nHazard identification and risk assessment.\nAbsence of voltage testing of medium-voltage switchgear.\nGrounding of medium-voltage switchgear.\nChanging medium-voltage air-switch fuses.\nInserting and removing (racking) medium-voltage circuit breakers.\nInspection of PPE and arc-rated clothing.
URL:https://shermco.com/training-catalog/electrical-safety-for-qualified-electrical-workers-labs-9/
CATEGORIES:In-person United States
END:VEVENT
BEGIN:VEVENT
DTSTART;TZID=UTC:20250710T080000
DTEND;TZID=UTC:20250710T160000
DTSTAMP:20260422T224054
CREATED:20250627T225359Z
LAST-MODIFIED:20250630T140856Z
UID:2571-1752134400-1752163200@shermco.com
SUMMARY:Electrical Safety for Qualified Electrical Workers Refresher (Virtual)
DESCRIPTION:TUITION: $550*\nDURATION: 1 Day (8am – 4pm)\nCEU: 0.8 Units\nPREREQUISITES: Attendees should have completed OSHA/CSA-mandated electrical safety training (Electrical Safety for Qualified Electrical Workers class or equivalent). \nCOURSE DESCRIPTION: \nThis one-day class is designed for those who have previously met the OSHA/CSA-mandated training requirements of NFPA 70E and need to be re-certified. It is a concise review of the concepts and practices required for safe electrical work. This course is designed to meet the training requirements in NFPA 70E Section 110.2(D)(3). \n*Tuition price is for open enrollments\, does not include costs for on-site bookings. \nCOURSE LEARNING OBJECTIVES: \n\nElectrical hazards and safety procedures for work on metalclad switchgear\, substations\, motor control centers and facility electrical systems.\nProper selection\, maintenance and use of required PPE.\nEnergized and de-energized work policy and LOTO requirements.\nSafe use of portable electrical equipment\, including inspection and testing.\nReview of OSHA/CSA Electrical Safety-Related Work Practice regulations (29CFR1910.331-.335) as well as Articles 110\, 120 and 130 of the NFPA 70E.\n\nCONTACT US TO BOOK YOUR NEXT SESSION! \nGet personalized support and guidance for your team at your plant or ours! Contact TrainingServices@Shermco.com and we’ll work with you to find a plan that suits your needs. \n(Pricing subject to change based on customization\, first-come\, first-serve basis\, minimum charges apply)
URL:https://shermco.com/training-catalog/electrical-safety-for-qualified-electrical-workers-refresher-virtual/
CATEGORIES:United States Virtual
END:VEVENT
END:VCALENDAR