BEGIN:VCALENDAR
VERSION:2.0
PRODID:-//Shermco Industries - ECPv6.15.11//NONSGML v1.0//EN
CALSCALE:GREGORIAN
METHOD:PUBLISH
X-ORIGINAL-URL:https://shermco.com
X-WR-CALDESC:Events for Shermco Industries
REFRESH-INTERVAL;VALUE=DURATION:PT1H
X-Robots-Tag:noindex
X-PUBLISHED-TTL:PT1H
BEGIN:VTIMEZONE
TZID:UTC
BEGIN:STANDARD
TZOFFSETFROM:+0000
TZOFFSETTO:+0000
TZNAME:UTC
DTSTART:20240101T000000
END:STANDARD
END:VTIMEZONE
BEGIN:VEVENT
DTSTART;TZID=UTC:20250620T080000
DTEND;TZID=UTC:20250620T160000
DTSTAMP:20260423T001607
CREATED:20250627T224335Z
LAST-MODIFIED:20250630T141236Z
UID:2508-1750406400-1750435200@shermco.com
SUMMARY:Electrical Safety for Non-Electrical Personnel (Virtual)
DESCRIPTION:TUITION: $550*\nDURATION: 1 Day (8am – 4pm)\nCEU: 0.8 Units\nPREREQUISITES: None \nCOURSE DESCRIPTION: \nVirtually every worker on an industrial or commercial job site works with or uses electrically powered equipment. Most of these workers have no concept of the hazards they could possibly be exposed to by performing common\, everyday tasks. Jewelry contacting energized components\, overstressed power strips\, coffee pots\, and heaters placed into the workplace all can increase the risk to the employee and to production if the worker is not aware of the potential issues involved. This course covers common situations that could place the non-electrical worker into dangerous situations. This course is primarily designed to meet the training requirements in NFPA 70E Section 110.2(A)(1)(C)(2). \n*Tuition price is for open enrollments\, does not include costs for on-site bookings. \nCOURSE LEARNING OBJECTIVES: \n\nReview of electrical hazards\, their causes and the potential for injuries and fatalities.\nUnderstand how to avoid these hazards.\nCommon situations that can increase risk to workers.\n OSHA/CSA’s electrical safety-related work practices regulation as it applies to non-electrical personnel.\nUnderstand electrical LOTO and the Safe Work Zone.\nUnderstand applicable OSHA/CSA regulations for non-electrical workers.\nUnderstand and apply NFPA 70E requirements for unqualified persons.\nUnderstand the safe approach distances for shock\, arc flash\, arc-blast and the purpose of a safe work zone.\n\nCONTACT US TO BOOK YOUR NEXT SESSION! \nGet personalized support and guidance for your team at your plant or ours! Contact TrainingServices@Shermco.com and we’ll work with you to find a plan that suits your needs. \n(Pricing subject to change based on customization\, first-come\, first-serve basis\, minimum charges apply)
URL:https://shermco.com/training-catalog/electrical-safety-for-non-electrical-personnel-virtual/
CATEGORIES:United States Virtual
END:VEVENT
END:VCALENDAR