BEGIN:VCALENDAR
VERSION:2.0
PRODID:-//Shermco Industries - ECPv6.15.11//NONSGML v1.0//EN
CALSCALE:GREGORIAN
METHOD:PUBLISH
X-WR-CALNAME:Shermco Industries
X-ORIGINAL-URL:https://shermco.com
X-WR-CALDESC:Events for Shermco Industries
REFRESH-INTERVAL;VALUE=DURATION:PT1H
X-Robots-Tag:noindex
X-PUBLISHED-TTL:PT1H
BEGIN:VTIMEZONE
TZID:UTC
BEGIN:STANDARD
TZOFFSETFROM:+0000
TZOFFSETTO:+0000
TZNAME:UTC
DTSTART:20240101T000000
END:STANDARD
END:VTIMEZONE
BEGIN:VEVENT
DTSTART;TZID=UTC:20250601T080000
DTEND;TZID=UTC:20250603T160000
DTSTAMP:20260423T001441
CREATED:20250627T230509Z
LAST-MODIFIED:20250627T230509Z
UID:2588-1748764800-1748966400@shermco.com
SUMMARY:Basic Electrical Technical Skills
DESCRIPTION:TUITION: $1\,025*\nDURATION: 3 Days\nCEU: 2.4 Units\nPREREQUISITES: Attendees must have a solid understanding of basic electricity acquired through classroom/OJT or completion of Shermco’s Basic Electrical Fundamentals training program. \nCOURSE DESCRIPTION: \nA 3-day companion course to Basic Electrical Fundamentals\, this course features a detailed\, hands-on training regimen on the use of electrical testing equipment\, electrical system troubleshooting\, and interpretation of electrical drawings. These are the basic skills required by any technician to safely and efficiently maintain and operate electrical equipment. \n*Tuition price is for open enrollments\, does not include costs for on-site bookings \nCOURSE LEARNING OBJECTIVES: \n\nHow to use Digital Volt Ohm Meters (DVOMs) to safely test a variety of components.\nInterpret nameplates and data-plates of common electrical devices.\nProper method for operating switches and circuit breakers.\nExplanation and use of overcurrent protective devices\, molded case circuit breakers and low voltage power circuit breakers.\nEffectively troubleshoot electrical control and power circuits.\nThe basic understanding of electrical drawings and prints.\nSafe work practices for voltage testing\, megohmmeters and micro-ohmmeters.\n\nCONTACT US TO BOOK YOUR NEXT SESSION! \nGet personalized support and guidance for your team at your plant or ours! Contact TrainingServices@Shermco.com and we’ll work with you to find a plan that suits your needs. \n(Pricing subject to change based on customization\, first-come\, first-serve basis\, minimum charges apply
URL:https://shermco.com/training-catalog/basic-electrical-technical-skills/
CATEGORIES:In-person United States
END:VEVENT
END:VCALENDAR